Package: Icens Version: 1.76.0 Command: /home/biocbuild/R/R-beta-2024-04-15_r86425/bin/R CMD build --keep-empty-dirs --no-resave-data Icens StartedAt: 2024-05-09 01:01:32 -0000 (Thu, 09 May 2024) EndedAt: 2024-05-09 01:01:33 -0000 (Thu, 09 May 2024) EllapsedTime: 1.0 seconds RetCode: 0 Status: OK PackageFile: Icens_1.76.0.tar.gz PackageFileSize: 20.83 KiB