Package: Icens Version: 1.76.0 Command: rm -rf Icens.buildbin-libdir && mkdir Icens.buildbin-libdir && /Users/biocbuild/BBS/utils/build-universal.sh Icens_1.76.0.tar.gz /Library/Frameworks/R.framework/Resources/bin/R Icens.buildbin-libdir StartedAt: 2024-06-11 11:38:21 -0400 (Tue, 11 Jun 2024) EndedAt: 2024-06-11 11:38:35 -0400 (Tue, 11 Jun 2024) EllapsedTime: 14.2 seconds RetCode: 0 Status: OK PackageFile: Icens_1.76.0.tgz PackageFileSize: 108.5 KiB