Package: Icens Version: 1.76.0 Command: /Library/Frameworks/R.framework/Resources/bin/R CMD INSTALL Icens StartedAt: 2024-10-16 17:47:20 -0400 (Wed, 16 Oct 2024) EndedAt: 2024-10-16 17:47:27 -0400 (Wed, 16 Oct 2024) EllapsedTime: 6.9 seconds RetCode: 0 Status: OK