Package: IWTomics Version: 1.28.0 Command: F:\biocbuild\bbs-3.19-bioc\R\bin\R.exe CMD INSTALL IWTomics StartedAt: 2024-06-26 16:54:27 -0400 (Wed, 26 Jun 2024) EndedAt: 2024-06-26 16:54:55 -0400 (Wed, 26 Jun 2024) EllapsedTime: 28.1 seconds RetCode: 0 Status: OK