Package: IWTomics Version: 1.28.0 Command: chmod a+r IWTomics -R && F:\biocbuild\bbs-3.19-bioc\R\bin\R.exe CMD build --keep-empty-dirs --no-resave-data IWTomics StartedAt: 2024-06-26 19:41:23 -0400 (Wed, 26 Jun 2024) EndedAt: 2024-06-26 19:43:52 -0400 (Wed, 26 Jun 2024) EllapsedTime: 148.4 seconds RetCode: 0 Status: OK PackageFile: IWTomics_1.28.0.tar.gz PackageFileSize: 1.247 MiB