Package: IWTomics Version: 1.28.0 Command: rm -rf IWTomics.buildbin-libdir && mkdir IWTomics.buildbin-libdir && F:\biocbuild\bbs-3.19-bioc\R\bin\R.exe CMD INSTALL --build --library=IWTomics.buildbin-libdir IWTomics_1.28.0.tar.gz StartedAt: 2024-06-27 08:24:35 -0400 (Thu, 27 Jun 2024) EndedAt: 2024-06-27 08:25:15 -0400 (Thu, 27 Jun 2024) EllapsedTime: 40.3 seconds RetCode: 0 Status: OK PackageFile: IWTomics_1.28.0.zip PackageFileSize: 1.632 MiB