Package: IWTomics Version: 1.28.0 Command: /Library/Frameworks/R.framework/Resources/bin/R CMD build --keep-empty-dirs --no-resave-data IWTomics StartedAt: 2024-06-09 17:04:36 -0400 (Sun, 09 Jun 2024) EndedAt: 2024-06-09 17:06:33 -0400 (Sun, 09 Jun 2024) EllapsedTime: 117.2 seconds RetCode: 0 Status: OK PackageFile: IWTomics_1.28.0.tar.gz PackageFileSize: 1.403 MiB