Package: IWTomics Version: 1.28.0 Command: rm -rf IWTomics.buildbin-libdir && mkdir IWTomics.buildbin-libdir && /Users/biocbuild/BBS/utils/build-universal.sh IWTomics_1.28.0.tar.gz /Library/Frameworks/R.framework/Resources/bin/R IWTomics.buildbin-libdir StartedAt: 2024-06-10 00:24:06 -0400 (Mon, 10 Jun 2024) EndedAt: 2024-06-10 00:24:33 -0400 (Mon, 10 Jun 2024) EllapsedTime: 26.8 seconds RetCode: 0 Status: OK PackageFile: IWTomics_1.28.0.tgz PackageFileSize: 1.775 MiB