Package: IWTomics Version: 1.28.0 Command: /home/biocbuild/R/R-beta-2024-04-15_r86425/bin/R CMD check --install=check:IWTomics.install-out.txt --library=/home/biocbuild/R/R-beta-2024-04-15_r86425/site-library --no-vignettes --timings IWTomics_1.28.0.tar.gz StartedAt: 2024-05-09 08:46:43 -0000 (Thu, 09 May 2024) EndedAt: 2024-05-09 08:51:35 -0000 (Thu, 09 May 2024) EllapsedTime: 291.6 seconds RetCode: 0 Status: WARNINGS CheckDir: IWTomics.Rcheck Warnings: 1