Package: IVAS Version: 2.24.0 Command: rm -rf IVAS.buildbin-libdir && mkdir IVAS.buildbin-libdir && E:\biocbuild\bbs-3.19-bioc\R\bin\R.exe CMD INSTALL --build --library=IVAS.buildbin-libdir IVAS_2.24.0.tar.gz StartedAt: 2024-10-17 08:01:26 -0400 (Thu, 17 Oct 2024) EndedAt: 2024-10-17 08:02:15 -0400 (Thu, 17 Oct 2024) EllapsedTime: 49.0 seconds RetCode: 0 Status: OK PackageFile: IVAS_2.24.0.zip PackageFileSize: 674 KiB