Package: IVAS Version: 2.24.0 Command: rm -rf IVAS.buildbin-libdir && mkdir IVAS.buildbin-libdir && F:\biocbuild\bbs-3.19-bioc\R\bin\R.exe CMD INSTALL --build --library=IVAS.buildbin-libdir IVAS_2.24.0.tar.gz StartedAt: 2024-06-27 08:24:31 -0400 (Thu, 27 Jun 2024) EndedAt: 2024-06-27 08:25:39 -0400 (Thu, 27 Jun 2024) EllapsedTime: 68.0 seconds RetCode: 0 Status: OK PackageFile: IVAS_2.24.0.zip PackageFileSize: 673.4 KiB