Package: IVAS Version: 2.24.0 Command: rm -rf IVAS.buildbin-libdir && mkdir IVAS.buildbin-libdir && /Users/biocbuild/BBS/utils/build-universal.sh IVAS_2.24.0.tar.gz /Library/Frameworks/R.framework/Resources/bin/R IVAS.buildbin-libdir StartedAt: 2024-10-17 16:27:00 -0400 (Thu, 17 Oct 2024) EndedAt: 2024-10-17 16:28:40 -0400 (Thu, 17 Oct 2024) EllapsedTime: 100.6 seconds RetCode: 0 Status: OK PackageFile: IVAS_2.24.0.tgz PackageFileSize: 675.6 KiB