Package: ITALICS Version: 2.64.0 Command: rm -rf ITALICS.buildbin-libdir && mkdir ITALICS.buildbin-libdir && E:\biocbuild\bbs-3.19-bioc\R\bin\R.exe CMD INSTALL --build --library=ITALICS.buildbin-libdir ITALICS_2.64.0.tar.gz StartedAt: 2024-10-17 08:01:13 -0400 (Thu, 17 Oct 2024) EndedAt: 2024-10-17 08:01:46 -0400 (Thu, 17 Oct 2024) EllapsedTime: 33.4 seconds RetCode: 0 Status: OK PackageFile: ITALICS_2.64.0.zip PackageFileSize: 415.1 KiB