Package: ITALICS Version: 2.64.0 Command: /Library/Frameworks/R.framework/Resources/bin/R CMD check --install=check:ITALICS.install-out.txt --library=/Library/Frameworks/R.framework/Resources/library --no-vignettes --timings ITALICS_2.64.0.tar.gz StartedAt: 2024-10-17 07:15:50 -0400 (Thu, 17 Oct 2024) EndedAt: 2024-10-17 07:23:05 -0400 (Thu, 17 Oct 2024) EllapsedTime: 435.3 seconds RetCode: 0 Status: OK CheckDir: ITALICS.Rcheck Warnings: 0