Package: ITALICS Version: 2.64.0 Command: /Library/Frameworks/R.framework/Resources/bin/R CMD build --keep-empty-dirs --no-resave-data ITALICS StartedAt: 2024-10-16 20:18:49 -0400 (Wed, 16 Oct 2024) EndedAt: 2024-10-16 20:20:55 -0400 (Wed, 16 Oct 2024) EllapsedTime: 126.5 seconds RetCode: 0 Status: OK PackageFile: ITALICS_2.64.0.tar.gz PackageFileSize: 615.6 KiB