Package: ITALICS Version: 2.64.0 Command: /Library/Frameworks/R.framework/Resources/bin/R CMD check --install=check:ITALICS.install-out.txt --library=/Library/Frameworks/R.framework/Resources/library --no-vignettes --timings ITALICS_2.64.0.tar.gz StartedAt: 2024-06-09 21:07:32 -0400 (Sun, 09 Jun 2024) EndedAt: 2024-06-09 21:10:56 -0400 (Sun, 09 Jun 2024) EllapsedTime: 203.3 seconds RetCode: 0 Status: OK CheckDir: ITALICS.Rcheck Warnings: 0