Package: ITALICS Version: 2.64.0 Command: rm -rf ITALICS.buildbin-libdir && mkdir ITALICS.buildbin-libdir && /Users/biocbuild/BBS/utils/build-universal.sh ITALICS_2.64.0.tar.gz /Library/Frameworks/R.framework/Resources/bin/R ITALICS.buildbin-libdir StartedAt: 2024-06-10 00:23:59 -0400 (Mon, 10 Jun 2024) EndedAt: 2024-06-10 00:24:36 -0400 (Mon, 10 Jun 2024) EllapsedTime: 36.8 seconds RetCode: 0 Status: OK PackageFile: ITALICS_2.64.0.tgz PackageFileSize: 553.7 KiB