Package: ITALICS Version: 2.64.0 Command: /Library/Frameworks/R.framework/Resources/bin/R CMD build --keep-empty-dirs --no-resave-data ITALICS StartedAt: 2024-10-17 03:05:29 -0400 (Thu, 17 Oct 2024) EndedAt: 2024-10-17 03:06:53 -0400 (Thu, 17 Oct 2024) EllapsedTime: 83.4 seconds RetCode: 0 Status: OK PackageFile: ITALICS_2.64.0.tar.gz PackageFileSize: 615.5 KiB