Package: ITALICS Version: 2.64.0 Command: rm -rf ITALICS.buildbin-libdir && mkdir ITALICS.buildbin-libdir && /Users/biocbuild/BBS/utils/build-universal.sh ITALICS_2.64.0.tar.gz /Library/Frameworks/R.framework/Resources/bin/R ITALICS.buildbin-libdir StartedAt: 2024-10-18 19:06:01 -0400 (Fri, 18 Oct 2024) EndedAt: 2024-10-18 19:06:40 -0400 (Fri, 18 Oct 2024) EllapsedTime: 38.9 seconds RetCode: 0 Status: OK PackageFile: ITALICS_2.64.0.tgz PackageFileSize: 554.6 KiB