Package: ISLET Version: 1.6.0 Command: /Library/Frameworks/R.framework/Resources/bin/R CMD build --keep-empty-dirs --no-resave-data ISLET StartedAt: 2024-10-16 20:18:30 -0400 (Wed, 16 Oct 2024) EndedAt: 2024-10-16 20:24:41 -0400 (Wed, 16 Oct 2024) EllapsedTime: 371.7 seconds RetCode: 0 Status: OK PackageFile: ISLET_1.6.0.tar.gz PackageFileSize: 2.185 MiB