Package: ISLET Version: 1.6.0 Command: /Library/Frameworks/R.framework/Resources/bin/R CMD check --install=check:ISLET.install-out.txt --library=/Library/Frameworks/R.framework/Resources/library --no-vignettes --timings ISLET_1.6.0.tar.gz StartedAt: 2024-10-18 01:39:57 -0400 (Fri, 18 Oct 2024) EndedAt: 2024-10-18 01:49:12 -0400 (Fri, 18 Oct 2024) EllapsedTime: 554.3 seconds RetCode: 0 Status: OK CheckDir: ISLET.Rcheck Warnings: 0