Package: ISAnalytics Version: 1.14.0 Command: E:\biocbuild\bbs-3.19-bioc\R\bin\R.exe CMD INSTALL ISAnalytics StartedAt: 2024-10-16 16:42:17 -0400 (Wed, 16 Oct 2024) EndedAt: 2024-10-16 16:44:00 -0400 (Wed, 16 Oct 2024) EllapsedTime: 102.5 seconds RetCode: 0 Status: OK