Package: ISAnalytics Version: 1.14.0 Command: rm -rf ISAnalytics.buildbin-libdir && mkdir ISAnalytics.buildbin-libdir && E:\biocbuild\bbs-3.19-bioc\R\bin\R.exe CMD INSTALL --build --library=ISAnalytics.buildbin-libdir ISAnalytics_1.14.0.tar.gz StartedAt: 2024-10-17 08:00:21 -0400 (Thu, 17 Oct 2024) EndedAt: 2024-10-17 08:05:54 -0400 (Thu, 17 Oct 2024) EllapsedTime: 333.1 seconds RetCode: 0 Status: OK PackageFile: ISAnalytics_1.14.0.zip PackageFileSize: 4.793 MiB