Package: ISAnalytics Version: 1.14.0 Command: chmod a+r ISAnalytics -R && F:\biocbuild\bbs-3.19-bioc\R\bin\R.exe CMD build --keep-empty-dirs --no-resave-data ISAnalytics StartedAt: 2024-06-26 19:38:11 -0400 (Wed, 26 Jun 2024) EndedAt: 2024-06-26 19:43:13 -0400 (Wed, 26 Jun 2024) EllapsedTime: 302.1 seconds RetCode: 0 Status: OK PackageFile: ISAnalytics_1.14.0.tar.gz PackageFileSize: 3.982 MiB