Package: ISAnalytics Version: 1.14.0 Command: rm -rf ISAnalytics.buildbin-libdir && mkdir ISAnalytics.buildbin-libdir && F:\biocbuild\bbs-3.19-bioc\R\bin\R.exe CMD INSTALL --build --library=ISAnalytics.buildbin-libdir ISAnalytics_1.14.0.tar.gz StartedAt: 2024-06-27 08:23:32 -0400 (Thu, 27 Jun 2024) EndedAt: 2024-06-27 08:25:21 -0400 (Thu, 27 Jun 2024) EllapsedTime: 109.3 seconds RetCode: 0 Status: OK PackageFile: ISAnalytics_1.14.0.zip PackageFileSize: 4.783 MiB