Package: ISAnalytics Version: 1.14.0 Command: /Library/Frameworks/R.framework/Resources/bin/R CMD check --install=check:ISAnalytics.install-out.txt --library=/Library/Frameworks/R.framework/Resources/library --no-vignettes --timings ISAnalytics_1.14.0.tar.gz StartedAt: 2024-10-17 07:06:02 -0400 (Thu, 17 Oct 2024) EndedAt: 2024-10-17 07:19:09 -0400 (Thu, 17 Oct 2024) EllapsedTime: 787.8 seconds RetCode: 1 Status: ERROR CheckDir: ISAnalytics.Rcheck Warnings: NA