Package: ISAnalytics Version: 1.14.0 Command: /Library/Frameworks/R.framework/Resources/bin/R CMD check --install=check:ISAnalytics.install-out.txt --library=/Library/Frameworks/R.framework/Resources/library --no-vignettes --timings ISAnalytics_1.14.0.tar.gz StartedAt: 2024-06-10 19:30:47 -0400 (Mon, 10 Jun 2024) EndedAt: 2024-06-10 19:45:17 -0400 (Mon, 10 Jun 2024) EllapsedTime: 869.4 seconds RetCode: 0 Status: OK CheckDir: ISAnalytics.Rcheck Warnings: 0