Package: ISAnalytics Version: 1.14.0 Command: /Library/Frameworks/R.framework/Resources/bin/R CMD check --install=check:ISAnalytics.install-out.txt --library=/Library/Frameworks/R.framework/Resources/library --no-vignettes --timings ISAnalytics_1.14.0.tar.gz StartedAt: 2024-10-18 01:32:21 -0400 (Fri, 18 Oct 2024) EndedAt: 2024-10-18 01:38:10 -0400 (Fri, 18 Oct 2024) EllapsedTime: 349.7 seconds RetCode: 1 Status: ERROR CheckDir: ISAnalytics.Rcheck Warnings: NA