Package: ISAnalytics Version: 1.14.0 Command: rm -rf ISAnalytics.buildbin-libdir && mkdir ISAnalytics.buildbin-libdir && /Users/biocbuild/BBS/utils/build-universal.sh ISAnalytics_1.14.0.tar.gz /Library/Frameworks/R.framework/Resources/bin/R ISAnalytics.buildbin-libdir StartedAt: 2024-10-18 19:03:46 -0400 (Fri, 18 Oct 2024) EndedAt: 2024-10-18 19:04:14 -0400 (Fri, 18 Oct 2024) EllapsedTime: 28.6 seconds RetCode: 0 Status: OK PackageFile: ISAnalytics_1.14.0.tgz PackageFileSize: 5.232 MiB