Package: IRanges Version: 2.38.1 Command: rm -rf IRanges.buildbin-libdir && mkdir IRanges.buildbin-libdir && E:\biocbuild\bbs-3.19-bioc\R\bin\R.exe CMD INSTALL --build --library=IRanges.buildbin-libdir IRanges_2.38.1.tar.gz StartedAt: 2024-10-17 08:00:18 -0400 (Thu, 17 Oct 2024) EndedAt: 2024-10-17 08:03:54 -0400 (Thu, 17 Oct 2024) EllapsedTime: 216.4 seconds RetCode: 0 Status: OK PackageFile: IRanges_2.38.1.zip PackageFileSize: 2.236 MiB