Package: IRanges Version: 2.38.0 Command: F:\biocbuild\bbs-3.19-bioc\R\bin\R.exe CMD INSTALL IRanges StartedAt: 2024-06-26 15:43:00 -0400 (Wed, 26 Jun 2024) EndedAt: 2024-06-26 15:44:42 -0400 (Wed, 26 Jun 2024) EllapsedTime: 101.7 seconds RetCode: 0 Status: OK