Package: IRanges Version: 2.38.1 Command: /home/biocbuild/bbs-3.19-bioc/R/bin/R CMD check --install=check:IRanges.install-out.txt --library=/home/biocbuild/bbs-3.19-bioc/R/site-library --timings IRanges_2.38.1.tar.gz StartedAt: 2024-10-17 01:41:18 -0400 (Thu, 17 Oct 2024) EndedAt: 2024-10-17 01:44:10 -0400 (Thu, 17 Oct 2024) EllapsedTime: 172.4 seconds RetCode: 0 Status: WARNINGS CheckDir: IRanges.Rcheck Warnings: 4