Package: IRanges Version: 2.38.1 Command: /home/biocbuild/bbs-3.19-bioc/R/bin/R CMD build --keep-empty-dirs --no-resave-data IRanges StartedAt: 2024-10-16 19:06:28 -0400 (Wed, 16 Oct 2024) EndedAt: 2024-10-16 19:07:35 -0400 (Wed, 16 Oct 2024) EllapsedTime: 67.1 seconds RetCode: 0 Status: OK PackageFile: IRanges_2.38.1.tar.gz PackageFileSize: 470.3 KiB