Package: IRISFGM Version: 1.12.0 Command: chmod a+r IRISFGM -R && E:\biocbuild\bbs-3.19-bioc\R\bin\R.exe CMD build --keep-empty-dirs --no-resave-data IRISFGM StartedAt: 2024-10-16 19:52:50 -0400 (Wed, 16 Oct 2024) EndedAt: 2024-10-16 19:55:21 -0400 (Wed, 16 Oct 2024) EllapsedTime: 151.0 seconds RetCode: 1 Status: ERROR PackageFile: None PackageFileSize: NA