Package: IRISFGM Version: 1.12.0 Command: /Library/Frameworks/R.framework/Resources/bin/R CMD INSTALL IRISFGM StartedAt: 2024-06-09 17:38:42 -0400 (Sun, 09 Jun 2024) EndedAt: 2024-06-09 17:40:32 -0400 (Sun, 09 Jun 2024) EllapsedTime: 109.9 seconds RetCode: 0 Status: OK