Package: IRISFGM Version: 1.12.0 Maintainer: Yuzhou Chang MaintainerEmail: yuzhou.chang at osumc.edu git_url: https://git.bioconductor.org/packages/IRISFGM git_branch: RELEASE_3_19 git_last_commit: 2cf5874 git_last_commit_date: 2024-04-30 11:31:21 -0400 (Tue, 30 Apr 2024)