Package: IPO Version: 1.30.0 Command: rm -rf IPO.buildbin-libdir && mkdir IPO.buildbin-libdir && F:\biocbuild\bbs-3.19-bioc\R\bin\R.exe CMD INSTALL --build --library=IPO.buildbin-libdir IPO_1.30.0.tar.gz StartedAt: 2024-06-27 08:23:28 -0400 (Thu, 27 Jun 2024) EndedAt: 2024-06-27 08:24:37 -0400 (Thu, 27 Jun 2024) EllapsedTime: 68.9 seconds RetCode: 0 Status: OK PackageFile: IPO_1.30.0.zip PackageFileSize: 497.7 KiB