Package: IPO Version: 1.29.0 Command: rm -rf IPO.buildbin-libdir && mkdir IPO.buildbin-libdir && /Users/biocbuild/BBS/utils/build-universal.sh IPO_1.29.0.tar.gz /Library/Frameworks/R.framework/Resources/bin/R IPO.buildbin-libdir StartedAt: 2024-03-02 13:43:28 -0500 (Sat, 02 Mar 2024) EndedAt: 2024-03-02 13:45:12 -0500 (Sat, 02 Mar 2024) EllapsedTime: 104.7 seconds RetCode: 0 Status: OK PackageFile: IPO_1.29.0.tgz PackageFileSize: 811.6 KiB