Package: IPO Version: 1.30.0 Maintainer: Thomas Lieb MaintainerEmail: thomas.r.lieb at gmail.com git_url: https://git.bioconductor.org/packages/IPO git_branch: RELEASE_3_19 git_last_commit: a41487f git_last_commit_date: 2024-04-30 10:52:52 -0400 (Tue, 30 Apr 2024)