Package: IONiseR Version: 2.28.0 Command: E:\biocbuild\bbs-3.19-bioc\R\bin\R.exe CMD INSTALL IONiseR StartedAt: 2024-10-16 16:31:58 -0400 (Wed, 16 Oct 2024) EndedAt: 2024-10-16 16:32:45 -0400 (Wed, 16 Oct 2024) EllapsedTime: 47.4 seconds RetCode: 0 Status: OK