Package: IONiseR Version: 2.28.0 Command: chmod a+r IONiseR -R && E:\biocbuild\bbs-3.19-bioc\R\bin\R.exe CMD build --keep-empty-dirs --no-resave-data IONiseR StartedAt: 2024-10-16 19:52:16 -0400 (Wed, 16 Oct 2024) EndedAt: 2024-10-16 19:54:46 -0400 (Wed, 16 Oct 2024) EllapsedTime: 149.9 seconds RetCode: 0 Status: OK PackageFile: IONiseR_2.28.0.tar.gz PackageFileSize: 2.488 MiB