Package: IONiseR Version: 2.28.0 Command: F:\biocbuild\bbs-3.19-bioc\R\bin\R.exe CMD check --no-multiarch --install=check:IONiseR.install-out.txt --library=F:\biocbuild\bbs-3.19-bioc\R\library --no-vignettes --timings IONiseR_2.28.0.tar.gz StartedAt: 2024-06-27 02:50:43 -0400 (Thu, 27 Jun 2024) EndedAt: 2024-06-27 02:55:52 -0400 (Thu, 27 Jun 2024) EllapsedTime: 308.3 seconds RetCode: 0 Status: OK CheckDir: IONiseR.Rcheck Warnings: 0