Package: IONiseR Version: 2.28.0 Command: chmod a+r IONiseR -R && F:\biocbuild\bbs-3.19-bioc\R\bin\R.exe CMD build --keep-empty-dirs --no-resave-data IONiseR StartedAt: 2024-06-26 19:37:42 -0400 (Wed, 26 Jun 2024) EndedAt: 2024-06-26 19:40:55 -0400 (Wed, 26 Jun 2024) EllapsedTime: 192.9 seconds RetCode: 0 Status: OK PackageFile: IONiseR_2.28.0.tar.gz PackageFileSize: 2.488 MiB