Package: IONiseR Version: 2.28.0 Command: rm -rf IONiseR.buildbin-libdir && mkdir IONiseR.buildbin-libdir && F:\biocbuild\bbs-3.19-bioc\R\bin\R.exe CMD INSTALL --build --library=IONiseR.buildbin-libdir IONiseR_2.28.0.tar.gz StartedAt: 2024-06-27 08:23:22 -0400 (Thu, 27 Jun 2024) EndedAt: 2024-06-27 08:24:18 -0400 (Thu, 27 Jun 2024) EllapsedTime: 55.4 seconds RetCode: 0 Status: OK PackageFile: IONiseR_2.28.0.zip PackageFileSize: 2.604 MiB