Package: IONiseR Version: 2.28.0 Command: /Library/Frameworks/R.framework/Resources/bin/R CMD build --keep-empty-dirs --no-resave-data IONiseR StartedAt: 2024-10-16 20:14:40 -0400 (Wed, 16 Oct 2024) EndedAt: 2024-10-16 20:18:36 -0400 (Wed, 16 Oct 2024) EllapsedTime: 236.5 seconds RetCode: 0 Status: OK PackageFile: IONiseR_2.28.0.tar.gz PackageFileSize: 4.182 MiB