Package: IONiseR Version: 2.28.0 Command: /Library/Frameworks/R.framework/Resources/bin/R CMD build --keep-empty-dirs --no-resave-data IONiseR StartedAt: 2024-06-09 17:02:32 -0400 (Sun, 09 Jun 2024) EndedAt: 2024-06-09 17:04:27 -0400 (Sun, 09 Jun 2024) EllapsedTime: 114.8 seconds RetCode: 0 Status: OK PackageFile: IONiseR_2.28.0.tar.gz PackageFileSize: 4.182 MiB