Package: IONiseR Version: 2.28.0 Command: /home/biocbuild/R/R-beta-2024-04-15_r86425/bin/R CMD INSTALL IONiseR StartedAt: 2024-05-08 20:39:21 -0000 (Wed, 08 May 2024) EndedAt: 2024-05-08 20:40:07 -0000 (Wed, 08 May 2024) EllapsedTime: 45.8 seconds RetCode: 0 Status: OK