Package: IONiseR Version: 2.28.0 Command: /Library/Frameworks/R.framework/Resources/bin/R CMD build --keep-empty-dirs --no-resave-data IONiseR StartedAt: 2024-10-17 02:57:12 -0400 (Thu, 17 Oct 2024) EndedAt: 2024-10-17 03:00:05 -0400 (Thu, 17 Oct 2024) EllapsedTime: 172.2 seconds RetCode: 0 Status: OK PackageFile: IONiseR_2.28.0.tar.gz PackageFileSize: 4.185 MiB