Package: INTACT Version: 1.4.0 Command: /home/biocbuild/bbs-3.19-bioc/R/bin/R CMD INSTALL INTACT StartedAt: 2024-10-16 15:52:36 -0400 (Wed, 16 Oct 2024) EndedAt: 2024-10-16 15:52:41 -0400 (Wed, 16 Oct 2024) EllapsedTime: 4.9 seconds RetCode: 0 Status: OK