Package: INTACT Version: 1.4.0 Command: /home/biocbuild/bbs-3.19-bioc/R/bin/R CMD build --keep-empty-dirs --no-resave-data INTACT StartedAt: 2024-10-16 19:04:35 -0400 (Wed, 16 Oct 2024) EndedAt: 2024-10-16 19:04:45 -0400 (Wed, 16 Oct 2024) EllapsedTime: 10.0 seconds RetCode: 0 Status: OK PackageFile: INTACT_1.4.0.tar.gz PackageFileSize: 2.43 MiB